BEGIN:VCALENDAR
VERSION:2.0
PRODID:-//AWordPressSite - ECPv6.15.20//NONSGML v1.0//EN
CALSCALE:GREGORIAN
METHOD:PUBLISH
X-ORIGINAL-URL:https://barringtoncom.com
X-WR-CALDESC:Events for AWordPressSite
REFRESH-INTERVAL;VALUE=DURATION:PT1H
X-Robots-Tag:noindex
X-PUBLISHED-TTL:PT1H
BEGIN:VTIMEZONE
TZID:UTC
BEGIN:STANDARD
TZOFFSETFROM:+0000
TZOFFSETTO:+0000
TZNAME:UTC
DTSTART:20220101T000000
END:STANDARD
END:VTIMEZONE
BEGIN:VEVENT
DTSTART;TZID=UTC:20231120T180000
DTEND;TZID=UTC:20231120T190000
DTSTAMP:20260419T082641
CREATED:20230219T074220Z
LAST-MODIFIED:20230220T022546Z
UID:323-1700503200-1700506800@barringtoncom.com
SUMMARY:Public HOA Budget Meeting\, November 20\, 2023 6:00PM
DESCRIPTION:Preliminary Agenda\n6:00PM Call Order\nEstablish Quorum\nHomeowners Quorum\nApproved Meeting Minutes\nApproval of the Financials\nNew Business\nAdjournment
URL:https://barringtoncom.com/event/public-hoa-meeting-november-20-2023-600pm/
CATEGORIES:HOA General Meeting
ATTACH;FMTTYPE=image/jpeg:https://barringtoncom.com/wp-content/uploads/2023/02/zoom8.jpg
ORGANIZER;CN="Metro Properties":MAILTO:annette@metropropertyservicesaz.com
END:VEVENT
BEGIN:VEVENT
DTSTART;TZID=UTC:20230925T180000
DTEND;TZID=UTC:20230925T190000
DTSTAMP:20260419T082641
CREATED:20230219T073950Z
LAST-MODIFIED:20230220T022622Z
UID:321-1695664800-1695668400@barringtoncom.com
SUMMARY:Public HOA Meeting\, September 25\, 2023\, 6:00PM
DESCRIPTION:Preliminary Agenda\n6:00PM Call Order\nEstablish Quorum\nHomeowners Quorum\nApproved Meeting Minutes\nApproval of the Financials\nNew Business\nAdjournment
URL:https://barringtoncom.com/event/public-hoa-meeting-september-25-2023-600pm/
CATEGORIES:HOA General Meeting
ATTACH;FMTTYPE=image/jpeg:https://barringtoncom.com/wp-content/uploads/2023/02/zoom7.jpg
ORGANIZER;CN="Metro Properties":MAILTO:annette@metropropertyservicesaz.com
END:VEVENT
BEGIN:VEVENT
DTSTART;TZID=UTC:20230327T180000
DTEND;TZID=UTC:20230327T183000
DTSTAMP:20260419T082641
CREATED:20230219T011314Z
LAST-MODIFIED:20230220T023041Z
UID:296-1679940000-1679941800@barringtoncom.com
SUMMARY:General HOA Meeting March 27. 2023
DESCRIPTION:Preliminary Agenda\n6:00PM Call Order\nEstablish Quorum\nHomeowners Quorum\nApproved Meeting Minutes\nApproval of the Financials\nNew Business\nAdjournment
URL:https://barringtoncom.com/event/general-hoa-meeting/
LOCATION:HOA Public meeting\, Zoom\, United States
CATEGORIES:HOA General Meeting
ATTACH;FMTTYPE=image/jpeg:https://barringtoncom.com/wp-content/uploads/2023/02/zoom15.jpg
ORGANIZER;CN="Metro Properties":MAILTO:annette@metropropertyservicesaz.com
END:VEVENT
END:VCALENDAR